BEGIN:VCALENDAR
VERSION:2.0
PRODID:-//Triathlon Inside - ECPv6.15.14//NONSGML v1.0//EN
CALSCALE:GREGORIAN
METHOD:PUBLISH
X-WR-CALNAME:Triathlon Inside
X-ORIGINAL-URL:https://triathloninside.com
X-WR-CALDESC:Events for Triathlon Inside
REFRESH-INTERVAL;VALUE=DURATION:PT1H
X-Robots-Tag:noindex
X-PUBLISHED-TTL:PT1H
BEGIN:VTIMEZONE
TZID:Europe/Amsterdam
BEGIN:DAYLIGHT
TZOFFSETFROM:+0100
TZOFFSETTO:+0200
TZNAME:CEST
DTSTART:20240331T010000
END:DAYLIGHT
BEGIN:STANDARD
TZOFFSETFROM:+0200
TZOFFSETTO:+0100
TZNAME:CET
DTSTART:20241027T010000
END:STANDARD
BEGIN:DAYLIGHT
TZOFFSETFROM:+0100
TZOFFSETTO:+0200
TZNAME:CEST
DTSTART:20250330T010000
END:DAYLIGHT
BEGIN:STANDARD
TZOFFSETFROM:+0200
TZOFFSETTO:+0100
TZNAME:CET
DTSTART:20251026T010000
END:STANDARD
BEGIN:DAYLIGHT
TZOFFSETFROM:+0100
TZOFFSETTO:+0200
TZNAME:CEST
DTSTART:20260329T010000
END:DAYLIGHT
BEGIN:STANDARD
TZOFFSETFROM:+0200
TZOFFSETTO:+0100
TZNAME:CET
DTSTART:20261025T010000
END:STANDARD
BEGIN:DAYLIGHT
TZOFFSETFROM:+0100
TZOFFSETTO:+0200
TZNAME:CEST
DTSTART:20270328T010000
END:DAYLIGHT
BEGIN:STANDARD
TZOFFSETFROM:+0200
TZOFFSETTO:+0100
TZNAME:CET
DTSTART:20271031T010000
END:STANDARD
END:VTIMEZONE
BEGIN:VEVENT
DTSTART;TZID=Europe/Amsterdam:20260403T003000
DTEND;TZID=Europe/Amsterdam:20260403T033000
DTSTAMP:20260422T173400
CREATED:20260224T094603Z
LAST-MODIFIED:20260304T114843Z
UID:40050-1775176200-1775187000@triathloninside.com
SUMMARY:Parcoursverkenning GO Triathlon Brouwersdam (Goede vrijdag)
DESCRIPTION:
URL:https://triathloninside.com/kalender/parcoursverkenning-go-triathlon-brouwersdam-goede-vrijdag/
LOCATION:Zeil- & Surfcentrum Brouwersdam\, Ouddorp\, Netherlands
END:VEVENT
BEGIN:VEVENT
DTSTART;VALUE=DATE:20260316
DTEND;VALUE=DATE:20260321
DTSTAMP:20260422T173400
CREATED:20260225T153509Z
LAST-MODIFIED:20260304T120701Z
UID:40059-1773619200-1774051199@triathloninside.com
SUMMARY:Hoogtestage bij TAERU
DESCRIPTION:
URL:https://triathloninside.com/kalender/hoogtestage-bij-taeru/
LOCATION:Érezée\, Belgium
END:VEVENT
BEGIN:VEVENT
DTSTART;VALUE=DATE:20260130
DTEND;VALUE=DATE:20260131
DTSTAMP:20260422T173400
CREATED:20251117T115753Z
LAST-MODIFIED:20251117T115753Z
UID:39553-1769731200-1769817599@triathloninside.com
SUMMARY:TRIATHLON INSIDE 2026 KICK-OFF EVENT
DESCRIPTION:
URL:https://triathloninside.com/kalender/triathlon-inside-2026-kick-off-event/
END:VEVENT
BEGIN:VEVENT
DTSTART;TZID=Europe/Amsterdam:20260120T203000
DTEND;TZID=Europe/Amsterdam:20260120T213000
DTSTAMP:20260422T173400
CREATED:20251117T115646Z
LAST-MODIFIED:20251117T115646Z
UID:39551-1768941000-1768944600@triathloninside.com
SUMMARY:Webinar Steff Overmars: indoor vs outdoor training: wanneer\, waarom en hoe combineren
DESCRIPTION:
URL:https://triathloninside.com/kalender/webinar-steff-overmars-indoor-vs-outdoor-training-wanneer-waarom-en-hoe-combineren/
END:VEVENT
BEGIN:VEVENT
DTSTART;TZID=Europe/Amsterdam:20260112T200000
DTEND;TZID=Europe/Amsterdam:20260112T210000
DTSTAMP:20260422T173400
CREATED:20251117T115456Z
LAST-MODIFIED:20251117T115456Z
UID:39547-1768248000-1768251600@triathloninside.com
SUMMARY:Webinar Dirk Verbraak: supplementen: welke zijn nuttig\, welke zijn overbodig
DESCRIPTION:
URL:https://triathloninside.com/kalender/webinar-dirk-verbraak-supplementen-welke-zijn-nuttig-welke-zijn-overbodig/
END:VEVENT
BEGIN:VEVENT
DTSTART;TZID=Europe/Amsterdam:20251218T200000
DTEND;TZID=Europe/Amsterdam:20251218T210000
DTSTAMP:20260422T173400
CREATED:20251117T115406Z
LAST-MODIFIED:20251117T115406Z
UID:39545-1766088000-1766091600@triathloninside.com
SUMMARY:Webinar Guido Vroemen: gebruik van wearables en sensoren (slaap\, hrv\, vermogensmeters)
DESCRIPTION:
URL:https://triathloninside.com/kalender/webinar-guido-vroemen-gebruik-van-wearables-en-sensoren-slaap-hrv-vermogensmeters/
END:VEVENT
BEGIN:VEVENT
DTSTART;TZID=Europe/Amsterdam:20251215T200000
DTEND;TZID=Europe/Amsterdam:20251215T210000
DTSTAMP:20260422T173400
CREATED:20251117T115318Z
LAST-MODIFIED:20251117T115318Z
UID:39543-1765828800-1765832400@triathloninside.com
SUMMARY:Webinar Dirk Verbraak: wedstrijdplan voeding maken
DESCRIPTION:
URL:https://triathloninside.com/kalender/webinar-dirk-verbraak-wedstrijdplan-voeding-maken/
END:VEVENT
BEGIN:VEVENT
DTSTART;TZID=Europe/Amsterdam:20251211T200000
DTEND;TZID=Europe/Amsterdam:20251211T210000
DTSTAMP:20260422T173400
CREATED:20251117T115231Z
LAST-MODIFIED:20251117T115231Z
UID:39541-1765483200-1765486800@triathloninside.com
SUMMARY:Webinar Guido Vroemen: data-analyse en trainingapps (trainingpeaks\, zwift\, garmin connect). Hoe haal je echt waarde uit je data?
DESCRIPTION:
URL:https://triathloninside.com/kalender/webinar-guido-vroemen-data-analyse-en-trainingapps-trainingpeaks-zwift-garmin-connect-hoe-haal-je-echt-waarde-uit-je-data/
END:VEVENT
BEGIN:VEVENT
DTSTART;TZID=Europe/Amsterdam:20251210T190000
DTEND;TZID=Europe/Amsterdam:20251210T200000
DTSTAMP:20260422T173400
CREATED:20251117T115114Z
LAST-MODIFIED:20251117T115114Z
UID:39539-1765393200-1765396800@triathloninside.com
SUMMARY:Webinar Dirk-Jan Lieuwes 'De Bikefitter': waarom is het slim om een bikefit te doen?
DESCRIPTION:
URL:https://triathloninside.com/kalender/webinar-dirk-jan-lieuwes-de-bikefitter-waarom-is-het-slim-om-een-bikefit-te-doen/
END:VEVENT
BEGIN:VEVENT
DTSTART;TZID=Europe/Amsterdam:20251203T200000
DTEND;TZID=Europe/Amsterdam:20251203T210000
DTSTAMP:20260422T173400
CREATED:20251117T114800Z
LAST-MODIFIED:20251117T114907Z
UID:39536-1764792000-1764795600@triathloninside.com
SUMMARY:Webinar Richard de Vroome: krachttraining voor triatleten: voorkomen van blessures\, verbeteren van prestaties
DESCRIPTION:
URL:https://triathloninside.com/kalender/webinar-richard-de-vroome-krachttraining-voor-triatleten-voorkomen-van-blessures-verbeteren-van-prestaties/
END:VEVENT
BEGIN:VEVENT
DTSTART;VALUE=DATE:20251124
DTEND;VALUE=DATE:20251125
DTSTAMP:20260422T173400
CREATED:20251117T114721Z
LAST-MODIFIED:20251117T114951Z
UID:39534-1763942400-1764028799@triathloninside.com
SUMMARY:Webinar Michiel de Wilde: mentale gezondheid in de sport
DESCRIPTION:
URL:https://triathloninside.com/kalender/webinar-michiel-de-wilde-mentale-gezondheid-in-de-sport/
END:VEVENT
END:VCALENDAR