BEGIN:VCALENDAR
VERSION:2.0
PRODID:-//Triathlon Inside - ECPv6.15.14//NONSGML v1.0//EN
CALSCALE:GREGORIAN
METHOD:PUBLISH
X-WR-CALNAME:Triathlon Inside
X-ORIGINAL-URL:https://triathloninside.com
X-WR-CALDESC:Events for Triathlon Inside
REFRESH-INTERVAL;VALUE=DURATION:PT1H
X-Robots-Tag:noindex
X-PUBLISHED-TTL:PT1H
BEGIN:VTIMEZONE
TZID:Europe/Amsterdam
BEGIN:DAYLIGHT
TZOFFSETFROM:+0100
TZOFFSETTO:+0200
TZNAME:CEST
DTSTART:20250330T010000
END:DAYLIGHT
BEGIN:STANDARD
TZOFFSETFROM:+0200
TZOFFSETTO:+0100
TZNAME:CET
DTSTART:20251026T010000
END:STANDARD
BEGIN:DAYLIGHT
TZOFFSETFROM:+0100
TZOFFSETTO:+0200
TZNAME:CEST
DTSTART:20260329T010000
END:DAYLIGHT
BEGIN:STANDARD
TZOFFSETFROM:+0200
TZOFFSETTO:+0100
TZNAME:CET
DTSTART:20261025T010000
END:STANDARD
BEGIN:DAYLIGHT
TZOFFSETFROM:+0100
TZOFFSETTO:+0200
TZNAME:CEST
DTSTART:20270328T010000
END:DAYLIGHT
BEGIN:STANDARD
TZOFFSETFROM:+0200
TZOFFSETTO:+0100
TZNAME:CET
DTSTART:20271031T010000
END:STANDARD
END:VTIMEZONE
BEGIN:VTIMEZONE
TZID:UTC
BEGIN:STANDARD
TZOFFSETFROM:+0000
TZOFFSETTO:+0000
TZNAME:UTC
DTSTART:20250101T000000
END:STANDARD
END:VTIMEZONE
BEGIN:VEVENT
DTSTART;VALUE=DATE:20260509
DTEND;VALUE=DATE:20260510
DTSTAMP:20260422T155917
CREATED:20260225T153008Z
LAST-MODIFIED:20260304T121051Z
UID:40052-1778284800-1778371199@triathloninside.com
SUMMARY:GO Triathlon Brouwersdam
DESCRIPTION:
URL:https://triathloninside.com/kalender/brouwersdam/
LOCATION:Ouddorp\, Netherlands
END:VEVENT
BEGIN:VEVENT
DTSTART;TZID=Europe/Amsterdam:20260516T140000
DTEND;TZID=Europe/Amsterdam:20260516T170000
DTSTAMP:20260422T155917
CREATED:20260414T071256Z
LAST-MODIFIED:20260414T071256Z
UID:40245-1778940000-1778950800@triathloninside.com
SUMMARY:Bikefit & techniekcursus bij de wielerbaan in Rucphen / gehost door Velosomatic
DESCRIPTION:
URL:https://triathloninside.com/kalender/bikefit-techniekcursus-bij-de-wielerbaan-in-rucphen-gehost-door-velosomatic/
END:VEVENT
BEGIN:VEVENT
DTSTART;TZID=Europe/Amsterdam:20260523T160000
DTEND;TZID=Europe/Amsterdam:20260523T190000
DTSTAMP:20260422T155917
CREATED:20260304T114514Z
LAST-MODIFIED:20260401T135231Z
UID:40072-1779552000-1779562800@triathloninside.com
SUMMARY:Open water clinic door proftriatlete/zwemcoach Maaike Vooren / met deboer en 2moso
DESCRIPTION:
URL:https://triathloninside.com/kalender/open-water-clinic-door-proftriatlete-zwemcoach-maaike-vooren-met-deboer-en-2moso/
LOCATION:Haarrijnse Plas\, Utrecht\, Netherlands
END:VEVENT
BEGIN:VEVENT
DTSTART;VALUE=DATE:20260621
DTEND;VALUE=DATE:20260622
DTSTAMP:20260422T155917
CREATED:20260225T153105Z
LAST-MODIFIED:20260304T121012Z
UID:40054-1782000000-1782086399@triathloninside.com
SUMMARY:IRONMAN 70.3 Westfriesland
DESCRIPTION:
URL:https://triathloninside.com/kalender/ironman-70-3-westfriesland/
LOCATION:Hoorn\, Netherlands
END:VEVENT
BEGIN:VEVENT
DTSTART;VALUE=DATE:20260823
DTEND;VALUE=DATE:20260824
DTSTAMP:20260422T155917
CREATED:20251027T143437Z
LAST-MODIFIED:20260304T120937Z
UID:39463-1787443200-1787529599@triathloninside.com
SUMMARY:Triathlon Epe
DESCRIPTION:
URL:https://triathloninside.com/kalender/triathlon-epe/
LOCATION:Epe\, Netherlands
END:VEVENT
BEGIN:VEVENT
DTSTART;VALUE=DATE:20260926
DTEND;VALUE=DATE:20260927
DTSTAMP:20260422T155917
CREATED:20260225T153314Z
LAST-MODIFIED:20260304T120842Z
UID:40056-1790380800-1790467199@triathloninside.com
SUMMARY:GO Triathlon Zierikzee
DESCRIPTION:
URL:https://triathloninside.com/kalender/go-triathlon-zierikzee/
LOCATION:Zierikzee\, Netherlands
END:VEVENT
END:VCALENDAR